BEGIN:VCALENDAR
VERSION:2.0
PRODID:-//Tukios.com/
BEGIN:VEVENT
UID:521c4216-4d4d-4b06-a617-20cc1035839d@www.joycebradychapel.com
DTSTAMP:20260421T023137Z
DTSTART:20260423
SUMMARY:Family will return to the fellowship hall following the service
DESCRIPTION:
URL:https://www.joycebradychapel.com/obituaries/vernon-minton
LOCATION:Bennett Baptist Church Fellowship Hall 68 Bonlee St.  Bennett NC 
	27208
GEO:35.6460171;-79.4154057
END:VEVENT
END:VCALENDAR