BEGIN:VCALENDAR
VERSION:2.0
PRODID:-//Tukios.com/
BEGIN:VEVENT
UID:abcd3bbb-dbd8-4ebc-ac9f-dce36372fdb3@www.joycebradychapel.com
DTSTAMP:20260421T023137Z
DTSTART:20260423T180000Z
DTEND:20260423T190000Z
SUMMARY:Graveside Service
DESCRIPTION:
URL:https://www.joycebradychapel.com/obituaries/vernon-minton
LOCATION:Bennett Baptist Church 68 Bonlee St. Bennett Bennett NC 27208
GEO:35.565136;-79.5437677
END:VEVENT
END:VCALENDAR