BEGIN:VCALENDAR
VERSION:2.0
PRODID:-//Tukios.com/
BEGIN:VEVENT
UID:e482e300-3d03-4cb3-8deb-d27f88cbced7@www.joycebradychapel.com
DTSTAMP:20260421T022914Z
DTSTART:20260422T170000Z
DTEND:20260422T210000Z
SUMMARY:Joyce-Brady Chapel will be open for friends to sign the register
DESCRIPTION:
URL:https://www.joycebradychapel.com/obituaries/vernon-minton
LOCATION: 3833 Chatham St  Bennett NC 27208
GEO:35.564519;-79.5433524
END:VEVENT
END:VCALENDAR