BEGIN:VCALENDAR
VERSION:2.0
PRODID:-//Tukios.com/
BEGIN:VEVENT
UID:c43f5a0d-62a9-4546-92e0-4ab29b415472@www.joycebradychapel.com
DTSTAMP:20260421T023359Z
DTSTART:20260423T170000Z
DTEND:20260423T174500Z
SUMMARY:Visitation
DESCRIPTION:
URL:https://www.joycebradychapel.com/obituaries/vernon-minton
LOCATION:Bennett Baptist Church Fellowship Hall 68 Bonlee St.  Bennett NC 
	27208
GEO:35.6460171;-79.4154057
END:VEVENT
END:VCALENDAR