BEGIN:VCALENDAR
VERSION:2.0
PRODID:-//Tukios.com/
BEGIN:VEVENT
UID:7fce1b39-e1c1-4f04-8e87-cc99bbe0b400@www.joycebradychapel.com
DTSTAMP:20260423T190010Z
DTSTART:20260425
SUMMARY:Burial
DESCRIPTION:
URL:https://www.joycebradychapel.com/obituaries/carol-wood
LOCATION:Brown’s Chapel Christian Church 568 Brown's Chapel Rd.  
	Robbins NC 27325
GEO:35.4295585;-79.6510107
END:VEVENT
END:VCALENDAR