BEGIN:VCALENDAR
VERSION:2.0
PRODID:-//Tukios.com/
BEGIN:VEVENT
UID:6293c4c9-48af-46a2-8b50-aa0641d3a408@www.joycebradychapel.com
DTSTAMP:20260423T185838Z
DTSTART:20260425T180000Z
DTEND:20260425T200000Z
SUMMARY:Visitation
DESCRIPTION:
URL:https://www.joycebradychapel.com/obituaries/carol-wood
LOCATION:Joyce-Brady Chapel 3833 Chatham St  Bennett NC 27208
GEO:35.564519;-79.5433524
END:VEVENT
END:VCALENDAR